BEGIN:VCALENDAR
VERSION:2.0
PRODID:-//Vastgoed Actueel - ECPv6.15.20//NONSGML v1.0//EN
CALSCALE:GREGORIAN
METHOD:PUBLISH
X-ORIGINAL-URL:https://vastgoedactueel.nl
X-WR-CALDESC:Evenementen voor Vastgoed Actueel
REFRESH-INTERVAL;VALUE=DURATION:PT1H
X-Robots-Tag:noindex
X-PUBLISHED-TTL:PT1H
BEGIN:VTIMEZONE
TZID:Europe/Helsinki
BEGIN:DAYLIGHT
TZOFFSETFROM:+0200
TZOFFSETTO:+0300
TZNAME:EEST
DTSTART:20210328T010000
END:DAYLIGHT
BEGIN:STANDARD
TZOFFSETFROM:+0300
TZOFFSETTO:+0200
TZNAME:EET
DTSTART:20211031T010000
END:STANDARD
BEGIN:DAYLIGHT
TZOFFSETFROM:+0200
TZOFFSETTO:+0300
TZNAME:EEST
DTSTART:20220327T010000
END:DAYLIGHT
BEGIN:STANDARD
TZOFFSETFROM:+0300
TZOFFSETTO:+0200
TZNAME:EET
DTSTART:20221030T010000
END:STANDARD
BEGIN:DAYLIGHT
TZOFFSETFROM:+0200
TZOFFSETTO:+0300
TZNAME:EEST
DTSTART:20230326T010000
END:DAYLIGHT
BEGIN:STANDARD
TZOFFSETFROM:+0300
TZOFFSETTO:+0200
TZNAME:EET
DTSTART:20231029T010000
END:STANDARD
END:VTIMEZONE
BEGIN:VTIMEZONE
TZID:UTC
BEGIN:STANDARD
TZOFFSETFROM:+0000
TZOFFSETTO:+0000
TZNAME:UTC
DTSTART:20190101T000000
END:STANDARD
END:VTIMEZONE
BEGIN:VEVENT
DTSTART;VALUE=DATE:20220326
DTEND;VALUE=DATE:20220327
DTSTAMP:20260421T104814
CREATED:20220315T130801Z
LAST-MODIFIED:20220316T102719Z
UID:49477-1648252800-1648339199@vastgoedactueel.nl
SUMMARY:NVM Open Huizen Dag 2022
DESCRIPTION:De NVM organiseert opnieuw de vernieuwde opzet van de NVM Open Huizen Dag.  In plaats van deelnemende woningen bezoeken\, komt de NVM-makelaar op 26 maart bij u thuis met vrijblijvend advies. \nOp zaterdag 26 maart kunnen geïnteresseerde consumenten met vragen over hun woning\, de waarde\, verduurzamingsmogelijkheden of het aankomend woningaanbod een persoonlijke afspraak maken met een NVM-makelaar. \nTijdens de vrijblijvende afspraak beantwoordt de NVM-makelaar alle woonvragen en geeft de consument deskundig advies. Het enige dat de consument hoeft te doen is een online aanvraag doen via de speciale tool op  www.openhuizendag.nl voor een afspraak thuis of eventueel online. De NVM Open Huizen Dag 2022 vindt plaats op zaterdag 26 maart. \n 
URL:https://vastgoedactueel.nl/event/nvm-open-huizen-dag-2022/
LOCATION:Bij u thuis
ATTACH;FMTTYPE=image/jpeg:https://vastgoedactueel.nl/wp-content/uploads/2022/03/home-afspraak.ace2c78.jpg
END:VEVENT
BEGIN:VEVENT
DTSTART;TZID=UTC:20200617T160000
DTEND;TZID=UTC:20200617T171500
DTSTAMP:20260421T104814
CREATED:20200606T092109Z
LAST-MODIFIED:20200606T092749Z
UID:41863-1592409600-1592414100@vastgoedactueel.nl
SUMMARY:Webinar: Debat ‘De toekomst van de woningmarkt’
DESCRIPTION:Welke veranderingen zitten eraan te komen op de woningmarkt? Wat is de visie van de NVM en de VGM? Daarover gaat dit gratis webinar van VGME. \nWat is de status van de bankrente\, welke ontwikkelingen verwachten de economen van de ABN Amro Bank? Onno Hoes (NVM) en Eric Verweij (VGM.nl) starten dit debat onder begeleiding van dagvoorzitter Robbert Geerlings\, voorzitter van Vastgoedmanagers en experts (VGME). Naast Hoes en Verweij spreekt ook Aline Schuiling\, Senior Economist bij ABN Amro. \nHet webinar is toegankelijk voor VGME-leden én externen en is kosteloos. Voor meer informatie en om aan te melden gaat u naar de website van de VGME.
URL:https://vastgoedactueel.nl/event/webinar-debat-de-toekomst-van-de-woningmarkt/
ATTACH;FMTTYPE=image/jpeg:https://vastgoedactueel.nl/wp-content/uploads/2019/11/bouwgrond_1.jpg
END:VEVENT
END:VCALENDAR