BEGIN:VCALENDAR
VERSION:2.0
PRODID:-//Vastgoed Actueel - ECPv6.15.20//NONSGML v1.0//EN
CALSCALE:GREGORIAN
METHOD:PUBLISH
X-ORIGINAL-URL:https://vastgoedactueel.nl
X-WR-CALDESC:Evenementen voor Vastgoed Actueel
REFRESH-INTERVAL;VALUE=DURATION:PT1H
X-Robots-Tag:noindex
X-PUBLISHED-TTL:PT1H
BEGIN:VTIMEZONE
TZID:UTC
BEGIN:STANDARD
TZOFFSETFROM:+0000
TZOFFSETTO:+0000
TZNAME:UTC
DTSTART:20190101T000000
END:STANDARD
END:VTIMEZONE
BEGIN:VEVENT
DTSTART;TZID=UTC:20200927T080000
DTEND;TZID=UTC:20201003T170000
DTSTAMP:20260420T211727
CREATED:20200629T055334Z
LAST-MODIFIED:20200629T055334Z
UID:42081-1601193600-1601744400@vastgoedactueel.nl
SUMMARY:Week van de Starter
DESCRIPTION:In de week van 27 september tot en met 3 oktober organiseert het Ministerie van Binnenlandse Zaken en Koninkrijksrelaties samen met woonpartijen de Week van de Starter. Het doel van deze week is om de positie van starters op de woningmarkt te verbeteren door te zorgen voor een compleet en onafhankelijk overzicht van informatie. Minister Kajsa Ollongren: “Als starter is het al lastig genoeg om een passende woning te vinden. Informatievoorziening mag daarbij in ieder geval niet het struikelblok zijn.” \nDe juiste informatie hebben helpt bij het maken van deze belangrijke keuzes. Maar deze informatie is versnipperd over verschillende organisaties en informatiebronnen. Het is daardoor best moeilijk om snel een compleet overzicht te krijgen van de mogelijkheden die je hebt als starter op de woningmarkt. \nHet ministerie van BZK organiseert de Week van de Starter samen met Aedes\, Nederlandse Vereniging van Banken\, Verbond van Verzekeraars\, VBO\, Vastgoedpro\, NVM\, De Hypotheekshop\, SVn\, Vereniging Eigen Huis en NHG. Het doel van deze week is om starters op de woningmarkt één centrale plek aan te bieden waar zij alle benodigde informatie over het huren of kopen van hun eerste huis kunnen vinden. In de Week van de Starter wordt deze centrale plek onder de aandacht gebracht door het organiseren van verschillende events.
URL:https://vastgoedactueel.nl/event/week-van-de-starter/
ATTACH;FMTTYPE=image/png:https://vastgoedactueel.nl/wp-content/uploads/2016/10/starterslening.PNG
END:VEVENT
END:VCALENDAR